BEGIN:VCALENDAR
PRODID:PlannerXE123
VERSION:2.0
CALSCALE:GREGORIAN
METHOD:PUBLISH
BEGIN:VEVENT
DTSTART:20261014
DTEND:20261017
DTSTAMP:20260419T225922Z
UID:(cecom.cathms.kr_1111)
CREATED:20260419T225922Z
DESCRIPTION:2박 3일\n\n<a href="http://cecom.cathms.kr/C_2/1111?iCal=ics_event&document_srl=1111">원본일정</a>
LOCATION:
SEQUENCE:1
STATUS:CONFIRMED
SUMMARY:한국순교복자성직수도회 성지순례
TRANSP:TRANSPARENT
END:VEVENT
END:VCALENDAR
