BEGIN:VCALENDAR
PRODID:PlannerXE123
VERSION:2.0
CALSCALE:GREGORIAN
METHOD:PUBLISH
BEGIN:VEVENT
DTSTART:20260706
DTEND:20260709
DTSTAMP:20260419T225910Z
UID:(cecom.cathms.kr_1127)
CREATED:20260419T225910Z
DESCRIPTION:2박 3일\n\n<a href="http://cecom.cathms.kr/C_2/1127?iCal=ics_event&document_srl=1127">원본일정</a>
LOCATION:
SEQUENCE:1
STATUS:CONFIRMED
SUMMARY:황목사님외
TRANSP:TRANSPARENT
END:VEVENT
END:VCALENDAR
