BEGIN:VCALENDAR
PRODID:PlannerXE123
VERSION:2.0
CALSCALE:GREGORIAN
METHOD:PUBLISH
BEGIN:VEVENT
DTSTART:20260503
DTEND:20260505
DTSTAMP:20260420T080115Z
UID:(cecom.cathms.kr_1143)
CREATED:20260420T080115Z
DESCRIPTION:1박 2일\n\n<a href="http://cecom.cathms.kr/C_2/1143?iCal=ics_event&m=0&document_srl=1143">원본일정</a>
LOCATION:
SEQUENCE:1
STATUS:CONFIRMED
SUMMARY:우하하 성지 순례단
TRANSP:TRANSPARENT
END:VEVENT
END:VCALENDAR
