BEGIN:VCALENDAR
PRODID:PlannerXE123
VERSION:2.0
CALSCALE:GREGORIAN
METHOD:PUBLISH
BEGIN:VEVENT
DTSTART:20260524
DTEND:20260526
DTSTAMP:20260423T221539Z
UID:(cecom.cathms.kr_897)
CREATED:20260423T221539Z
DESCRIPTION:1박 2일\n\n<a href="http://cecom.cathms.kr/C_2/897?category=0&m=0&document_srl=897">원본일정</a>
LOCATION:
SEQUENCE:1
STATUS:CONFIRMED
SUMMARY:늘푸른교회
TRANSP:TRANSPARENT
END:VEVENT
END:VCALENDAR
