BEGIN:VCALENDAR
PRODID:PlannerXE123
VERSION:2.0
CALSCALE:GREGORIAN
METHOD:PUBLISH
BEGIN:VEVENT
DTSTART:20260607
DTEND:20260608
DTSTAMP:20260425T195107Z
UID:(cecom.cathms.kr_960)
CREATED:20260425T195107Z
DESCRIPTION:당일\n\n<a href="http://cecom.cathms.kr/C_2/960?category=0&m=0&document_srl=960">원본일정</a>
LOCATION:
SEQUENCE:1
STATUS:CONFIRMED
SUMMARY:창원베네딕토 성경
TRANSP:TRANSPARENT
END:VEVENT
END:VCALENDAR
