BEGIN:VCALENDAR
PRODID:PlannerXE123
VERSION:2.0
CALSCALE:GREGORIAN
METHOD:PUBLISH
BEGIN:VEVENT
DTSTART:20260621
DTEND:20260622
DTSTAMP:20260423T123456Z
UID:(cecom.cathms.kr_961)
CREATED:20260423T123456Z
DESCRIPTION:당일\n\n<a href="http://cecom.cathms.kr/C_2/961?document_srl=961&page=2&document_srl=961">원본일정</a>
LOCATION:
SEQUENCE:1
STATUS:CONFIRMED
SUMMARY:창원베네딕토 성경
TRANSP:TRANSPARENT
END:VEVENT
END:VCALENDAR
