BEGIN:VCALENDAR
PRODID:PlannerXE123
VERSION:2.0
CALSCALE:GREGORIAN
METHOD:PUBLISH
BEGIN:VEVENT
DTSTART:20260628
DTEND:20260629
DTSTAMP:20260422T195313Z
UID:(cecom.cathms.kr_962)
CREATED:20260422T195313Z
DESCRIPTION:당일\n\n<a href="http://cecom.cathms.kr/C_2/962?device=big_size&page=2&document_srl=962">원본일정</a>
LOCATION:
SEQUENCE:1
STATUS:CONFIRMED
SUMMARY:창원베네딕토 성경
TRANSP:TRANSPARENT
END:VEVENT
END:VCALENDAR
