BEGIN:VCALENDAR
PRODID:PlannerXE123
VERSION:2.0
CALSCALE:GREGORIAN
METHOD:PUBLISH
BEGIN:VEVENT
DTSTART:20260511
DTEND:20260516
DTSTAMP:20260423T095350Z
UID:(cecom.cathms.kr_989)
CREATED:20260423T095350Z
DESCRIPTION:4박 5일\n\n<a href="http://cecom.cathms.kr/C_2/989?document_srl=989&listStyle=planner_simple&document_srl=989">원본일정</a>
LOCATION:
SEQUENCE:1
STATUS:CONFIRMED
SUMMARY:사제단 피정 1차
TRANSP:TRANSPARENT
END:VEVENT
END:VCALENDAR
