BEGIN:VCALENDAR
PRODID:PlannerXE123
VERSION:2.0
CALSCALE:GREGORIAN
METHOD:PUBLISH
BEGIN:VEVENT
DTSTART:20260518
DTEND:20250823
DTSTAMP:20260420T080114Z
UID:(cecom.cathms.kr_992)
CREATED:20260420T080114Z
DESCRIPTION:4박 5일\n\n<a href="http://cecom.cathms.kr/C_2/992?document_srl=992&page=2&document_srl=992">원본일정</a>
LOCATION:
SEQUENCE:1
STATUS:CONFIRMED
SUMMARY:사제단 피정 - 2차
TRANSP:TRANSPARENT
END:VEVENT
END:VCALENDAR
