BEGIN:VCALENDAR
PRODID:PlannerXE123
VERSION:2.0
CALSCALE:GREGORIAN
METHOD:PUBLISH
BEGIN:VEVENT
DTSTART:20260518
DTEND:20260523
DTSTAMP:20260423T221533Z
UID:(cecom.cathms.kr_993)
CREATED:20260423T221533Z
DESCRIPTION:4박 5일\n\n<a href="http://cecom.cathms.kr/C_2/993?category=0&page=2&document_srl=993">원본일정</a>
LOCATION:
SEQUENCE:1
STATUS:CONFIRMED
SUMMARY:사제단 피정 2차
TRANSP:TRANSPARENT
END:VEVENT
END:VCALENDAR
