BEGIN:VCALENDAR
PRODID:PlannerXE123
VERSION:2.0
CALSCALE:GREGORIAN
METHOD:PUBLISH
BEGIN:VEVENT
DTSTART:20260704
DTEND:20260706
DTSTAMP:20260421T195022Z
UID:(cecom.cathms.kr_997)
CREATED:20260421T195022Z
DESCRIPTION:1박 2일\n\n<a href="http://cecom.cathms.kr/C_2/997?iCal=ics_event&listStyle=planner_simple&document_srl=997">원본일정</a>
LOCATION:
SEQUENCE:1
STATUS:CONFIRMED
SUMMARY:신학교 지원자 피정
TRANSP:TRANSPARENT
END:VEVENT
END:VCALENDAR
